BEGIN:VCALENDAR
VERSION:2.0
PRODID:Infraserv GmbH & Höchst KG
CALSCALE:GREGORIAN
METHOD:PUBLISH
BEGIN:VTIMEZONE
TZID:Europe/Berlin
BEGIN:DAYLIGHT
TZOFFSETFROM:+0100
RRULE:FREQ=YEARLY;BYMONTH=3;BYDAY=-1SU
DTSTART:19810329T020000
TZNAME:MESZ
TZOFFSETTO:+0200
END:DAYLIGHT
BEGIN:STANDARD
TZOFFSETFROM:+0200
RRULE:FREQ=YEARLY;BYMONTH=10;BYDAY=-1SU
DTSTART:19961027T030000
TZNAME:MEZ
TZOFFSETTO:+0100
END:STANDARD
END:VTIMEZONE
BEGIN:VEVENT
UID:84352-ical-infraserv
LOCATION: Provadis, Gebäude B 835, Raum 1.34 (Hörsaal) 
SUMMARY:IGR-Explosionsschutz-Erfahrungsaustausch
DESCRIPTION:
CLASS:PUBLIC
DTSTART;TZID=Europe/Berlin:20260506T090000
DTEND;TZID=Europe/Berlin:20260506T160000
DTSTAMP:20260421T110115
END:VEVENT
END:VCALENDAR